Package: MOSim Version: 2.3.0 Maintainer: Sonia Tarazona MaintainerEmail: sotacam at gmail.com git_url: https://git.bioconductor.org/packages/MOSim git_branch: devel git_last_commit: 8e78c32 git_last_commit_date: 2024-10-29 10:39:30 -0500 (Tue, 29 Oct 2024)