Package: MOSim Version: 2.3.0 Command: /Library/Frameworks/R.framework/Resources/bin/R CMD build --keep-empty-dirs --no-resave-data MOSim StartedAt: 2025-02-09 17:01:02 -0500 (Sun, 09 Feb 2025) EndedAt: 2025-02-09 17:03:50 -0500 (Sun, 09 Feb 2025) EllapsedTime: 167.8 seconds RetCode: 0 Status: OK PackageFile: MOSim_2.3.0.tar.gz PackageFileSize: 5.937 MiB