Package: MOSim Version: 2.3.0 Command: /Library/Frameworks/R.framework/Resources/bin/R CMD INSTALL MOSim StartedAt: 2025-02-09 15:25:26 -0500 (Sun, 09 Feb 2025) EndedAt: 2025-02-09 15:25:42 -0500 (Sun, 09 Feb 2025) EllapsedTime: 15.9 seconds RetCode: 0 Status: OK