Package: MOSim Version: 2.3.0 Command: /home/biocbuild/bbs-3.21-bioc/R/bin/R CMD check --install=check:MOSim.install-out.txt --library=/home/biocbuild/bbs-3.21-bioc/R/site-library --timings MOSim_2.3.0.tar.gz StartedAt: 2025-02-10 00:23:26 -0500 (Mon, 10 Feb 2025) EndedAt: 2025-02-10 00:42:32 -0500 (Mon, 10 Feb 2025) EllapsedTime: 1146.4 seconds RetCode: 0 Status: WARNINGS CheckDir: MOSim.Rcheck Warnings: 1