Package: MOSim Version: 2.3.0 Command: rm -rf MOSim.buildbin-libdir && mkdir MOSim.buildbin-libdir && E:\biocbuild\bbs-3.21-bioc\R\bin\R.exe CMD INSTALL --build --library=MOSim.buildbin-libdir MOSim_2.3.0.tar.gz StartedAt: 2025-02-13 08:22:39 -0500 (Thu, 13 Feb 2025) EndedAt: 2025-02-13 08:23:38 -0500 (Thu, 13 Feb 2025) EllapsedTime: 58.5 seconds RetCode: 0 Status: OK PackageFile: MOSim_2.3.0.zip PackageFileSize: 6.762 MiB