Package: MOSim Version: 2.3.0 Command: chmod a+r MOSim -R && E:\biocbuild\bbs-3.21-bioc\R\bin\R.exe CMD build --keep-empty-dirs --no-resave-data MOSim StartedAt: 2025-02-09 20:03:03 -0500 (Sun, 09 Feb 2025) EndedAt: 2025-02-09 20:12:09 -0500 (Sun, 09 Feb 2025) EllapsedTime: 545.7 seconds RetCode: 0 Status: OK PackageFile: MOSim_2.3.0.tar.gz PackageFileSize: 5.938 MiB