Package: MOSim Version: 2.3.0 Command: E:\biocbuild\bbs-3.21-bioc\R\bin\R.exe CMD check --no-multiarch --install=check:MOSim.install-out.txt --library=E:\biocbuild\bbs-3.21-bioc\R\library --no-vignettes --timings MOSim_2.3.0.tar.gz StartedAt: 2025-02-10 03:10:19 -0500 (Mon, 10 Feb 2025) EndedAt: 2025-02-10 03:28:32 -0500 (Mon, 10 Feb 2025) EllapsedTime: 1092.5 seconds RetCode: 0 Status: WARNINGS CheckDir: MOSim.Rcheck Warnings: 1