Package: MPAC Version: 1.1.4 Command: rm -rf MPAC.buildbin-libdir && mkdir MPAC.buildbin-libdir && /Users/biocbuild/BBS/utils/build-universal.sh MPAC_1.1.4.tar.gz /Library/Frameworks/R.framework/Resources/bin/R MPAC.buildbin-libdir StartedAt: 2025-02-09 22:22:14 -0500 (Sun, 09 Feb 2025) EndedAt: 2025-02-09 22:22:28 -0500 (Sun, 09 Feb 2025) EllapsedTime: 14.3 seconds RetCode: 0 Status: OK PackageFile: MPAC_1.1.4.tgz PackageFileSize: 790.1 KiB