Package: MPAC Version: 1.1.3 Command: /home/biocbuild/R/R/bin/R CMD INSTALL MPAC StartedAt: 2025-01-29 20:30:20 -0000 (Wed, 29 Jan 2025) EndedAt: 2025-01-29 20:31:02 -0000 (Wed, 29 Jan 2025) EllapsedTime: 41.8 seconds RetCode: 0 Status: OK