Package: MPAC Version: 1.1.4 Command: rm -rf MPAC.buildbin-libdir && mkdir MPAC.buildbin-libdir && /Users/biocbuild/BBS/utils/build-universal.sh MPAC_1.1.4.tar.gz /Library/Frameworks/R.framework/Resources/bin/R MPAC.buildbin-libdir StartedAt: 2025-02-10 01:04:07 -0500 (Mon, 10 Feb 2025) EndedAt: 2025-02-10 01:04:53 -0500 (Mon, 10 Feb 2025) EllapsedTime: 46.2 seconds RetCode: 0 Status: OK PackageFile: MPAC_1.1.4.tgz PackageFileSize: 792.3 KiB