Package: MPAC Version: 1.1.4 Command: /Library/Frameworks/R.framework/Resources/bin/R CMD build --keep-empty-dirs --no-resave-data MPAC StartedAt: 2025-02-09 17:35:18 -0500 (Sun, 09 Feb 2025) EndedAt: 2025-02-09 17:36:37 -0500 (Sun, 09 Feb 2025) EllapsedTime: 78.8 seconds RetCode: 0 Status: OK PackageFile: MPAC_1.1.4.tar.gz PackageFileSize: 795 KiB