Package: MPAC Version: 1.1.4 Command: /Library/Frameworks/R.framework/Resources/bin/R CMD check --install=check:MPAC.install-out.txt --library=/Library/Frameworks/R.framework/Resources/library --no-vignettes --timings MPAC_1.1.4.tar.gz StartedAt: 2025-02-09 22:05:32 -0500 (Sun, 09 Feb 2025) EndedAt: 2025-02-09 22:10:10 -0500 (Sun, 09 Feb 2025) EllapsedTime: 278.4 seconds RetCode: 0 Status: OK CheckDir: MPAC.Rcheck Warnings: 0