Package: MSA2dist Version: 1.11.1 Command: /Library/Frameworks/R.framework/Resources/bin/R CMD build --keep-empty-dirs --no-resave-data MSA2dist StartedAt: 2025-02-12 17:02:31 -0500 (Wed, 12 Feb 2025) EndedAt: 2025-02-12 17:03:00 -0500 (Wed, 12 Feb 2025) EllapsedTime: 28.3 seconds RetCode: 0 Status: OK PackageFile: MSA2dist_1.11.1.tar.gz PackageFileSize: 878.6 KiB