Package: MSA2dist Version: 1.11.1 Command: /home/biocbuild/bbs-3.21-bioc/R/bin/R CMD INSTALL MSA2dist StartedAt: 2025-02-09 15:49:32 -0500 (Sun, 09 Feb 2025) EndedAt: 2025-02-09 15:50:38 -0500 (Sun, 09 Feb 2025) EllapsedTime: 65.9 seconds RetCode: 0 Status: OK