Package: MSA2dist Version: 1.11.1 Command: rm -rf MSA2dist.buildbin-libdir && mkdir MSA2dist.buildbin-libdir && E:\biocbuild\bbs-3.21-bioc\R\bin\R.exe CMD INSTALL --build --library=MSA2dist.buildbin-libdir MSA2dist_1.11.1.tar.gz StartedAt: 2025-02-10 08:12:51 -0500 (Mon, 10 Feb 2025) EndedAt: 2025-02-10 08:14:23 -0500 (Mon, 10 Feb 2025) EllapsedTime: 92.6 seconds RetCode: 0 Status: OK PackageFile: MSA2dist_1.11.1.zip PackageFileSize: 1.274 MiB