Package: MSnID Version: 1.41.0 Command: /Library/Frameworks/R.framework/Resources/bin/R CMD check --install=check:MSnID.install-out.txt --library=/Library/Frameworks/R.framework/Resources/library --no-vignettes --timings MSnID_1.41.0.tar.gz StartedAt: 2025-02-09 20:18:52 -0500 (Sun, 09 Feb 2025) EndedAt: 2025-02-09 20:21:31 -0500 (Sun, 09 Feb 2025) EllapsedTime: 158.9 seconds RetCode: 1 Status: ERROR CheckDir: MSnID.Rcheck Warnings: NA