Package: MSnID Version: 1.41.0 Command: /home/biocbuild/R/R/bin/R CMD INSTALL MSnID StartedAt: 2025-01-29 20:17:20 -0000 (Wed, 29 Jan 2025) EndedAt: 2025-01-29 20:18:21 -0000 (Wed, 29 Jan 2025) EllapsedTime: 60.9 seconds RetCode: 0 Status: OK