Package: MSnID Version: 1.41.0 Command: rm -rf MSnID.buildbin-libdir && mkdir MSnID.buildbin-libdir && /Users/biocbuild/BBS/utils/build-universal.sh MSnID_1.41.0.tar.gz /Library/Frameworks/R.framework/Resources/bin/R MSnID.buildbin-libdir StartedAt: 2025-02-13 00:47:26 -0500 (Thu, 13 Feb 2025) EndedAt: 2025-02-13 00:48:29 -0500 (Thu, 13 Feb 2025) EllapsedTime: 62.3 seconds RetCode: 0 Status: OK PackageFile: MSnID_1.41.0.tgz PackageFileSize: 4.099 MiB