Package: MSnID Version: 1.41.0 Command: /Library/Frameworks/R.framework/Resources/bin/R CMD build --keep-empty-dirs --no-resave-data MSnID StartedAt: 2025-02-12 17:32:07 -0500 (Wed, 12 Feb 2025) EndedAt: 2025-02-12 17:34:52 -0500 (Wed, 12 Feb 2025) EllapsedTime: 165.6 seconds RetCode: 0 Status: OK PackageFile: MSnID_1.41.0.tar.gz PackageFileSize: 3.004 MiB