Package: MSnID Version: 1.41.0 Command: /Library/Frameworks/R.framework/Resources/bin/R CMD INSTALL MSnID StartedAt: 2025-02-09 15:32:39 -0500 (Sun, 09 Feb 2025) EndedAt: 2025-02-09 15:33:39 -0500 (Sun, 09 Feb 2025) EllapsedTime: 59.6 seconds RetCode: 0 Status: OK