Package: MSnID Version: 1.41.0 Command: /home/biocbuild/bbs-3.21-bioc/R/bin/R CMD check --install=check:MSnID.install-out.txt --library=/home/biocbuild/bbs-3.21-bioc/R/site-library --timings MSnID_1.41.0.tar.gz StartedAt: 2025-02-13 00:32:24 -0500 (Thu, 13 Feb 2025) EndedAt: 2025-02-13 00:40:52 -0500 (Thu, 13 Feb 2025) EllapsedTime: 508.7 seconds RetCode: 0 Status: OK CheckDir: MSnID.Rcheck Warnings: 0