Package: MSnID Version: 1.41.0 Command: rm -rf MSnID.buildbin-libdir && mkdir MSnID.buildbin-libdir && E:\biocbuild\bbs-3.21-bioc\R\bin\R.exe CMD INSTALL --build --library=MSnID.buildbin-libdir MSnID_1.41.0.tar.gz StartedAt: 2025-02-10 08:13:47 -0500 (Mon, 10 Feb 2025) EndedAt: 2025-02-10 08:15:10 -0500 (Mon, 10 Feb 2025) EllapsedTime: 83.3 seconds RetCode: 0 Status: OK PackageFile: MSnID_1.41.0.zip PackageFileSize: 4.075 MiB