Package: MSnbase Version: 2.33.2 Command: /Library/Frameworks/R.framework/Resources/bin/R CMD check --install=check:MSnbase.install-out.txt --library=/Library/Frameworks/R.framework/Resources/library --no-vignettes --timings MSnbase_2.33.2.tar.gz StartedAt: 2025-02-04 20:20:07 -0500 (Tue, 04 Feb 2025) EndedAt: 2025-02-04 20:26:18 -0500 (Tue, 04 Feb 2025) EllapsedTime: 370.6 seconds RetCode: 1 Status: ERROR CheckDir: MSnbase.Rcheck Warnings: NA