Package: MSnbase Version: 2.33.2 Command: /Library/Frameworks/R.framework/Resources/bin/R CMD INSTALL MSnbase StartedAt: 2025-02-04 15:18:07 -0500 (Tue, 04 Feb 2025) EndedAt: 2025-02-04 15:18:33 -0500 (Tue, 04 Feb 2025) EllapsedTime: 25.8 seconds RetCode: 0 Status: OK