############################################################################## ############################################################################## ### ### Running command: ### ### /home/biocbuild/R/R/bin/R CMD check --install=check:MSnbase.install-out.txt --library=/home/biocbuild/R/R/site-library --no-vignettes --timings MSnbase_2.33.2.tar.gz ### ############################################################################## ############################################################################## * using log directory ‘/home/biocbuild/bbs-3.21-bioc/meat/MSnbase.Rcheck’ * using R Under development (unstable) (2024-11-24 r87369) * using platform: aarch64-unknown-linux-gnu * R was compiled by aarch64-unknown-linux-gnu-gcc (GCC) 14.2.0 GNU Fortran (GCC) 14.2.0 * running under: openEuler 24.03 (LTS) * using session charset: UTF-8 * using option ‘--no-vignettes’ * checking for file ‘MSnbase/DESCRIPTION’ ... OK * this is package ‘MSnbase’ version ‘2.33.2’ * package encoding: UTF-8 * checking package namespace information ... OK * checking package dependencies ... OK * checking if this is a source package ... OK * checking if there is a namespace ... OK * checking for hidden files and directories ... OK * checking for portable file names ... OK * checking for sufficient/correct file permissions ... OK * checking whether package ‘MSnbase’ can be installed ... OK * used C compiler: ‘aarch64-unknown-linux-gnu-gcc (GCC) 14.2.0’ * used C++ compiler: ‘aarch64-unknown-linux-gnu-g++ (GCC) 14.2.0’ * checking installed package size ... INFO installed size is 6.9Mb sub-directories of 1Mb or more: R 2.4Mb data 1.9Mb libs 1.2Mb * checking package directory ... OK * checking ‘build’ directory ... OK * checking DESCRIPTION meta-information ... NOTE Authors@R field gives more than one person with maintainer role: Laurent Gatto [aut, cre] (ORCID: ) Johannes Rainer [aut, cre] (ORCID: ) Sebastian Gibb [aut, cre] (ORCID: ) * checking top-level files ... OK * checking for left-over files ... OK * checking index information ... OK * checking package subdirectories ... OK * checking code files for non-ASCII characters ... OK * checking R files for syntax errors ... OK * checking whether the package can be loaded ... OK * checking whether the package can be loaded with stated dependencies ... OK * checking whether the package can be unloaded cleanly ... OK * checking whether the namespace can be loaded with stated dependencies ... OK * checking whether the namespace can be unloaded cleanly ... OK * checking loading without being on the library search path ... OK * checking whether startup messages can be suppressed ... OK * checking dependencies in R code ... NOTE ':::' calls which should be '::': ‘S4Vectors:::makeClassinfoRowForCompactPrinting’ ‘S4Vectors:::makePrettyMatrixForCompactPrinting’ See the note in ?`:::` about the use of this operator. Unexported objects imported by ':::' calls: ‘Biobase:::.showAnnotatedDataFrame’ ‘MALDIquant:::.estimateNoise’ ‘MALDIquant:::.localMaxima’ ‘MALDIquant:::.movingAverage’ ‘MALDIquant:::.savitzkyGolay’ ‘mzR:::.hasChromatograms’ ‘mzR:::.hasSpectra’ See the note in ?`:::` about the use of this operator. * checking S3 generic/method consistency ... OK * checking replacement functions ... OK * checking foreign function calls ... OK * checking R code for possible problems ... OK * checking Rd files ... OK * checking Rd metadata ... OK * checking Rd cross-references ... NOTE Found the following Rd file(s) with Rd \link{} targets missing package anchors: Chromatogram-class.Rd: closest FeaturesOfInterest-class.Rd: Versioned-class MIAPE-class.Rd: MIAME-class, MIAxE-class, Versioned-class MSnExp-class.Rd: AnnotatedDataFrame-class, phenoData, eSet-class, featureData, experimentData, protocolData, Versions-class, VersionedBiobase-class, Versioned-class, isolationWindow MSnProcess-class.Rd: Versioned-class MSnSet-class.Rd: eSet-class, ExpressionSet-class, AnnotatedDataFrame-class, AssayData-class, exprs, assayData, phenoData, featureData, experimentData, protocolData, Versions-class, VersionedBiobase-class, Versioned-class, impute, meanSdPlot, ma.plot, mva.pairs MSnSetList-class.Rd: AnnotatedDataFrame-class MSpectra.Rd: mcols, DataFrame, SimpleList OnDiskMSnExp-class.Rd: AnnotatedDataFrame-class, phenoData, featureData, experimentData, eSet-class, protocolData, Versions-class, VersionedBiobase-class, Versioned-class ProcessingStep-class.Rd: Versioned-class ReporterIons-class.Rd: Versioned-class Spectrum-class.Rd: Versioned-class Spectrum1-class.Rd: Versioned-class Spectrum2-class.Rd: Versioned-class combineFeatures.Rd: impute combineSpectra.Rd: bpparam extractSpectraData.Rd: DataFrame normToReference.Rd: exprs normalise-methods.Rd: vsn2 pSet-class.Rd: eSet-class, AnnotatedDataFrame-class, phenoData, featureData, experimentData, protocolData, Versions-class, VersionedBiobase-class, Versioned-class plotMzDelta-methods.Rd: geom_histogram readMSData.Rd: AnnotatedDataFrame-class readMSnSet.Rd: readExpressionSet, read.AnnotatedDataFrame, read.MIAME readMgfData.Rd: AnnotatedDataFrame-class Please provide package anchors for all Rd \link{} targets not in the package itself and the base packages. * checking for missing documentation entries ... OK * checking for code/documentation mismatches ... OK * checking Rd \usage sections ... OK * checking Rd contents ... OK * checking for unstated dependencies in examples ... OK * checking contents of ‘data’ directory ... OK * checking data for non-ASCII characters ... OK * checking LazyData ... OK * checking data for ASCII and uncompressed saves ... OK * checking line endings in C/C++/Fortran sources/headers ... OK * checking compiled code ... NOTE Note: information on .o files is not available * checking files in ‘vignettes’ ... OK * checking examples ... OK Examples with CPU (user + system) or elapsed time > 5s user system elapsed chromatogram-MSnExp-method 15.804 0.207 17.068 OnDiskMSnExp-class 10.306 0.347 12.913 estimateMzResolution 7.873 0.111 8.539 averageMSnSet 7.683 0.169 11.223 aggvar 5.765 0.012 6.354 MSnSet-class 5.469 0.056 6.208 combineSpectra 5.176 0.020 5.579 plot-methods 4.959 0.020 5.981 MzTab-class 0.791 0.091 39.676 * checking for unstated dependencies in ‘tests’ ... OK * checking tests ... Running ‘testthat.R’ ERROR Running the tests in ‘tests/testthat.R’ failed. Last 13 lines of output: Backtrace: ▆ 1. └─mzR::openMSfile(f) at test_MSmap.R:8:1 2. └─base::tryCatch(...) 3. └─base (local) tryCatchList(expr, classes, parentenv, handlers) 4. └─base (local) tryCatchOne(expr, names, parentenv, handlers[[1L]]) 5. └─value[[3L]](cond) [ FAIL 1 | WARN 1092 | SKIP 12 | PASS 2355 ] Error: Test failures In addition: Warning message: In for (i in seq_along(extends)) { : closing unused connection 4 (/home/biocbuild/tmp/RtmpX6HL2F/file326a9670bfd8c2) Execution halted * checking for unstated dependencies in vignettes ... OK * checking package vignettes ... OK * checking running R code from vignettes ... SKIPPED * checking re-building of vignette outputs ... SKIPPED * checking PDF version of manual ... OK * DONE Status: 1 ERROR, 4 NOTEs See ‘/home/biocbuild/bbs-3.21-bioc/meat/MSnbase.Rcheck/00check.log’ for details.