Package: MSnbase Version: 2.33.2 Command: /Library/Frameworks/R.framework/Resources/bin/R CMD build --keep-empty-dirs --no-resave-data MSnbase StartedAt: 2025-02-04 17:31:58 -0500 (Tue, 04 Feb 2025) EndedAt: 2025-02-04 17:36:04 -0500 (Tue, 04 Feb 2025) EllapsedTime: 245.7 seconds RetCode: 0 Status: OK PackageFile: MSnbase_2.33.2.tar.gz PackageFileSize: 6.109 MiB