Package: MSnbase Version: 2.33.2 Command: /Library/Frameworks/R.framework/Resources/bin/R CMD check --install=check:MSnbase.install-out.txt --library=/Library/Frameworks/R.framework/Resources/library --no-vignettes --timings MSnbase_2.33.2.tar.gz StartedAt: 2025-02-04 21:53:03 -0500 (Tue, 04 Feb 2025) EndedAt: 2025-02-04 22:09:46 -0500 (Tue, 04 Feb 2025) EllapsedTime: 1003.0 seconds RetCode: 1 Status: ERROR CheckDir: MSnbase.Rcheck Warnings: NA