Package: MSnbase Version: 2.33.2 Command: /Library/Frameworks/R.framework/Resources/bin/R CMD INSTALL MSnbase StartedAt: 2025-02-09 15:28:26 -0500 (Sun, 09 Feb 2025) EndedAt: 2025-02-09 15:30:02 -0500 (Sun, 09 Feb 2025) EllapsedTime: 96.4 seconds RetCode: 0 Status: OK