Package: MSnbase Version: 2.33.2 Command: /home/biocbuild/bbs-3.21-bioc/R/bin/R CMD check --install=check:MSnbase.install-out.txt --library=/home/biocbuild/bbs-3.21-bioc/R/site-library --timings MSnbase_2.33.2.tar.gz StartedAt: 2025-02-05 00:38:41 -0500 (Wed, 05 Feb 2025) EndedAt: 2025-02-05 00:56:30 -0500 (Wed, 05 Feb 2025) EllapsedTime: 1068.7 seconds RetCode: 1 Status: ERROR CheckDir: MSnbase.Rcheck Warnings: NA