Package: MSnbase Version: 2.33.2 Command: rm -rf MSnbase.buildbin-libdir && mkdir MSnbase.buildbin-libdir && E:\biocbuild\bbs-3.21-bioc\R\bin\R.exe CMD INSTALL --build --library=MSnbase.buildbin-libdir MSnbase_2.33.2.tar.gz StartedAt: 2025-02-05 08:25:30 -0500 (Wed, 05 Feb 2025) EndedAt: 2025-02-05 08:29:21 -0500 (Wed, 05 Feb 2025) EllapsedTime: 231.5 seconds RetCode: 0 Status: OK PackageFile: MSnbase_2.33.2.zip PackageFileSize: 7.099 MiB