Package: MSnbase Version: 2.33.2 Command: chmod a+r MSnbase -R && E:\biocbuild\bbs-3.21-bioc\R\bin\R.exe CMD build --keep-empty-dirs --no-resave-data MSnbase StartedAt: 2025-02-04 20:10:40 -0500 (Tue, 04 Feb 2025) EndedAt: 2025-02-04 20:22:31 -0500 (Tue, 04 Feb 2025) EllapsedTime: 711.4 seconds RetCode: 0 Status: OK PackageFile: MSnbase_2.33.2.tar.gz PackageFileSize: 3.993 MiB