Package: MSnbase Version: 2.33.2 Command: E:\biocbuild\bbs-3.21-bioc\R\bin\R.exe CMD check --no-multiarch --install=check:MSnbase.install-out.txt --library=E:\biocbuild\bbs-3.21-bioc\R\library --no-vignettes --timings MSnbase_2.33.2.tar.gz StartedAt: 2025-02-05 03:44:20 -0500 (Wed, 05 Feb 2025) EndedAt: 2025-02-05 04:15:48 -0500 (Wed, 05 Feb 2025) EllapsedTime: 1888.1 seconds RetCode: 1 Status: ERROR CheckDir: MSnbase.Rcheck Warnings: NA