Package: MSnbase Version: 2.33.2 Command: E:\biocbuild\bbs-3.21-bioc\R\bin\R.exe CMD INSTALL MSnbase StartedAt: 2025-02-04 16:16:05 -0500 (Tue, 04 Feb 2025) EndedAt: 2025-02-04 16:19:16 -0500 (Tue, 04 Feb 2025) EllapsedTime: 190.8 seconds RetCode: 0 Status: OK