Package: MSstats Version: 4.15.1 Command: rm -rf MSstats.buildbin-libdir && mkdir MSstats.buildbin-libdir && /Users/biocbuild/BBS/utils/build-universal.sh MSstats_4.15.1.tar.gz /Library/Frameworks/R.framework/Resources/bin/R MSstats.buildbin-libdir StartedAt: 2025-02-09 22:22:39 -0500 (Sun, 09 Feb 2025) EndedAt: 2025-02-09 22:22:53 -0500 (Sun, 09 Feb 2025) EllapsedTime: 14.3 seconds RetCode: 0 Status: OK PackageFile: MSstats_4.15.1.tgz PackageFileSize: 1014 KiB