Package: MSstats Version: 4.15.1 Command: /Library/Frameworks/R.framework/Resources/bin/R CMD INSTALL MSstats StartedAt: 2025-02-12 15:32:05 -0500 (Wed, 12 Feb 2025) EndedAt: 2025-02-12 15:32:52 -0500 (Wed, 12 Feb 2025) EllapsedTime: 47.5 seconds RetCode: 0 Status: OK