Package: MSstats Version: 4.15.1 Command: /home/biocbuild/bbs-3.21-bioc/R/bin/R CMD INSTALL MSstats StartedAt: 2025-02-12 15:11:55 -0500 (Wed, 12 Feb 2025) EndedAt: 2025-02-12 15:12:36 -0500 (Wed, 12 Feb 2025) EllapsedTime: 41.4 seconds RetCode: 0 Status: OK