Package: MSstats Version: 4.15.1 Command: rm -rf MSstats.buildbin-libdir && mkdir MSstats.buildbin-libdir && E:\biocbuild\bbs-3.21-bioc\R\bin\R.exe CMD INSTALL --build --library=MSstats.buildbin-libdir MSstats_4.15.1.tar.gz StartedAt: 2025-02-10 08:14:03 -0500 (Mon, 10 Feb 2025) EndedAt: 2025-02-10 08:15:23 -0500 (Mon, 10 Feb 2025) EllapsedTime: 79.9 seconds RetCode: 0 Status: OK PackageFile: MSstats_4.15.1.zip PackageFileSize: 1.098 MiB