Package: MSstats Version: 4.15.1 Command: E:\biocbuild\bbs-3.21-bioc\R\bin\R.exe CMD check --no-multiarch --install=check:MSstats.install-out.txt --library=E:\biocbuild\bbs-3.21-bioc\R\library --no-vignettes --timings MSstats_4.15.1.tar.gz StartedAt: 2025-02-10 03:21:23 -0500 (Mon, 10 Feb 2025) EndedAt: 2025-02-10 03:23:39 -0500 (Mon, 10 Feb 2025) EllapsedTime: 136.3 seconds RetCode: 1 Status: ERROR CheckDir: MSstats.Rcheck Warnings: NA