Package: MSstatsBig Version: 1.5.0 Command: /home/biocbuild/bbs-3.21-bioc/R/bin/R CMD build --keep-empty-dirs --no-resave-data MSstatsBig StartedAt: 2025-02-09 18:19:20 -0500 (Sun, 09 Feb 2025) EndedAt: 2025-02-09 18:19:36 -0500 (Sun, 09 Feb 2025) EllapsedTime: 16.0 seconds RetCode: 0 Status: OK PackageFile: MSstatsBig_1.5.0.tar.gz PackageFileSize: 70.37 KiB