Package: MSstatsConvert Version: 1.17.1 Command: rm -rf MSstatsConvert.buildbin-libdir && mkdir MSstatsConvert.buildbin-libdir && /Users/biocbuild/BBS/utils/build-universal.sh MSstatsConvert_1.17.1.tar.gz /Library/Frameworks/R.framework/Resources/bin/R MSstatsConvert.buildbin-libdir StartedAt: 2025-02-09 22:22:41 -0500 (Sun, 09 Feb 2025) EndedAt: 2025-02-09 22:22:44 -0500 (Sun, 09 Feb 2025) EllapsedTime: 3.1 seconds RetCode: 0 Status: OK PackageFile: MSstatsConvert_1.17.1.tgz PackageFileSize: 2.107 MiB