Package: MSstatsConvert Version: 1.17.1 Command: /Library/Frameworks/R.framework/Resources/bin/R CMD check --install=check:MSstatsConvert.install-out.txt --library=/Library/Frameworks/R.framework/Resources/library --no-vignettes --timings MSstatsConvert_1.17.1.tar.gz StartedAt: 2025-02-04 21:55:02 -0500 (Tue, 04 Feb 2025) EndedAt: 2025-02-04 21:55:52 -0500 (Tue, 04 Feb 2025) EllapsedTime: 50.4 seconds RetCode: 0 Status: WARNINGS CheckDir: MSstatsConvert.Rcheck Warnings: 3