Package: MSstatsConvert Version: 1.17.1 Command: E:\biocbuild\bbs-3.21-bioc\R\bin\R.exe CMD check --no-multiarch --install=check:MSstatsConvert.install-out.txt --library=E:\biocbuild\bbs-3.21-bioc\R\library --no-vignettes --timings MSstatsConvert_1.17.1.tar.gz StartedAt: 2025-02-10 03:21:47 -0500 (Mon, 10 Feb 2025) EndedAt: 2025-02-10 03:22:39 -0500 (Mon, 10 Feb 2025) EllapsedTime: 52.8 seconds RetCode: 0 Status: WARNINGS CheckDir: MSstatsConvert.Rcheck Warnings: 3