Package: MSstatsConvert Version: 1.17.1 Command: E:\biocbuild\bbs-3.21-bioc\R\bin\R.exe CMD INSTALL MSstatsConvert StartedAt: 2025-02-09 15:26:45 -0500 (Sun, 09 Feb 2025) EndedAt: 2025-02-09 15:30:00 -0500 (Sun, 09 Feb 2025) EllapsedTime: 194.9 seconds RetCode: 0 Status: OK