Package: MSstatsLOBD Version: 1.15.0 Command: /Library/Frameworks/R.framework/Resources/bin/R CMD INSTALL MSstatsLOBD StartedAt: 2025-02-12 15:05:59 -0500 (Wed, 12 Feb 2025) EndedAt: 2025-02-12 15:06:01 -0500 (Wed, 12 Feb 2025) EllapsedTime: 2.4 seconds RetCode: 0 Status: OK