Package: MSstatsLOBD Version: 1.15.0 Command: /Library/Frameworks/R.framework/Resources/bin/R CMD build --keep-empty-dirs --no-resave-data MSstatsLOBD StartedAt: 2025-02-09 17:39:19 -0500 (Sun, 09 Feb 2025) EndedAt: 2025-02-09 17:39:53 -0500 (Sun, 09 Feb 2025) EllapsedTime: 34.2 seconds RetCode: 0 Status: OK PackageFile: MSstatsLOBD_1.15.0.tar.gz PackageFileSize: 341 KiB