Package: MSstatsLOBD Version: 1.15.0 Command: /Library/Frameworks/R.framework/Resources/bin/R CMD INSTALL MSstatsLOBD StartedAt: 2025-02-09 15:08:51 -0500 (Sun, 09 Feb 2025) EndedAt: 2025-02-09 15:09:18 -0500 (Sun, 09 Feb 2025) EllapsedTime: 26.7 seconds RetCode: 0 Status: OK