Package: MSstatsLiP Version: 1.13.0 Command: /Library/Frameworks/R.framework/Resources/bin/R CMD INSTALL MSstatsLiP StartedAt: 2025-02-04 15:29:12 -0500 (Tue, 04 Feb 2025) EndedAt: 2025-02-04 15:29:21 -0500 (Tue, 04 Feb 2025) EllapsedTime: 9.3 seconds RetCode: 0 Status: OK