Package: MSstatsLiP Version: 1.13.0 Command: /Library/Frameworks/R.framework/Resources/bin/R CMD build --keep-empty-dirs --no-resave-data MSstatsLiP StartedAt: 2025-02-04 17:33:42 -0500 (Tue, 04 Feb 2025) EndedAt: 2025-02-04 17:34:52 -0500 (Tue, 04 Feb 2025) EllapsedTime: 69.8 seconds RetCode: 0 Status: OK PackageFile: MSstatsLiP_1.13.0.tar.gz PackageFileSize: 2.003 MiB