Package: MSstatsLiP Version: 1.13.0 Command: /Library/Frameworks/R.framework/Resources/bin/R CMD check --install=check:MSstatsLiP.install-out.txt --library=/Library/Frameworks/R.framework/Resources/library --no-vignettes --timings MSstatsLiP_1.13.0.tar.gz StartedAt: 2025-02-09 22:10:59 -0500 (Sun, 09 Feb 2025) EndedAt: 2025-02-09 22:14:55 -0500 (Sun, 09 Feb 2025) EllapsedTime: 235.1 seconds RetCode: 0 Status: OK CheckDir: MSstatsLiP.Rcheck Warnings: 0