Package: MSstatsLiP Version: 1.13.0 Command: /Library/Frameworks/R.framework/Resources/bin/R CMD INSTALL MSstatsLiP StartedAt: 2025-02-04 15:43:23 -0500 (Tue, 04 Feb 2025) EndedAt: 2025-02-04 15:43:56 -0500 (Tue, 04 Feb 2025) EllapsedTime: 33.3 seconds RetCode: 0 Status: OK